BEGIN:VCALENDAR
VERSION:2.0
PRODID:-//eventon.com NONSGML v1.0//EN
CALSCALE:GREGORIAN
METHOD:PUBLISH
BEGIN:VEVENT
UID:69e9e0520238e
DTSTAMP:20260423T090314Z
DTSTART:20260503T140000Z
DTEND:20260503T160000Z
LOCATION:
SUMMARY:109 Trap Championship: Multi Club Event
DESCRIPTION:The annual 109 Trap Championship is an inter-club competition b
 etween three Clubs: Westwood Gun Club; Fin Fur &amp; Feather; and Medfield 
 Sportsmen&#8217;s Club. This year it is being held at Fin Fur and Feather. 
 10:00 AM sign in and start at 11:00 AM. Shoot 2 rounds\,  top 5 scores from
 [..]\nhttps://westwoodgunclub.com/events/109-trap-championship-multi-club-e
 vent/
URL:https://westwoodgunclub.com/events/109-trap-championship-multi-club-event/
END:VEVENT
END:VCALENDAR